BEGIN:VCALENDAR
VERSION:2.0
PRODID:-//OmniMagnetCalendar//EN
BEGIN:VEVENT
DTSTAMP:20190625T195740Z
STATUS:CONFIRMED
UID:hcnevada.clubs.harvard.edu308
DTSTART:20220426T003030Z
DTEND:20220426T013000Z
LOCATION:Virtual,
SUMMARY:A virtual discussion on Technology & Education with Harvard Professor Bharat Anand, April 25
DESCRIPTION:This event is sponsored by the Harvard Club of Nevada along with the Harvard Clubs of the Southwest Region.
BEGIN:VALARM
TRIGGER:-PT15M
ACTION:DISPLAY
END:VALARM
TRANSP:OPAQUE
END:VEVENT
END:VCALENDAR
