BEGIN:VCALENDAR
VERSION:2.0
PRODID:-//OmniMagnetCalendar//EN
BEGIN:VEVENT
DTSTAMP:20190625T195740Z
STATUS:CONFIRMED
UID:hcnevada.clubs.harvard.edu313
DTSTART:20220420T010000Z
DTEND:20220420T023000Z
LOCATION:8400 W Sunset Road, 400, Las Vegas, NV, 89113,
SUMMARY:Annual Spring Reception & Prize Book Ceremony 2022
DESCRIPTION:Please join us at this year's in-person evening ceremony!
BEGIN:VALARM
TRIGGER:-PT15M
ACTION:DISPLAY
END:VALARM
TRANSP:OPAQUE
END:VEVENT
END:VCALENDAR
