BEGIN:VCALENDAR
VERSION:2.0
PRODID:-//OmniMagnetCalendar//EN
BEGIN:VEVENT
DTSTAMP:20190625T195740Z
STATUS:CONFIRMED
UID:hcnevada.clubs.harvard.edu314
DTSTART:20220407T223000Z
DTEND:20220407T233000Z
LOCATION:VIRTUAL,
SUMMARY:A live interactive (virtual) conversation with Paul Salem (HBS '83), Chairman of MGM Resorts
DESCRIPTION:Insights into the Resort, Gaming, and Entertainment Industry (organized through the Harvard Club of Chicago)
BEGIN:VALARM
TRIGGER:-PT15M
ACTION:DISPLAY
END:VALARM
TRANSP:OPAQUE
END:VEVENT
END:VCALENDAR
