BEGIN:VCALENDAR
VERSION:2.0
PRODID:-//OmniMagnetCalendar//EN
BEGIN:VEVENT
DTSTAMP:20190625T195740Z
STATUS:CONFIRMED
UID:hcnevada.clubs.harvard.edu319
DTSTART:20220814T010000Z
DTEND:20220814T033000Z
LOCATION:1733 CORTA BELLA DRIVE, Las Vegas, NV, 89134,
SUMMARY:Summer BBQ & Potluck 2022
DESCRIPTION:The annual summer tradition continues!  Spend an evening with fellow alumni, current students, and recent admits at this always enjoyable summer event.  Friends and family are welcome to join.
BEGIN:VALARM
TRIGGER:-PT15M
ACTION:DISPLAY
END:VALARM
TRANSP:OPAQUE
END:VEVENT
END:VCALENDAR
