BEGIN:VCALENDAR
VERSION:2.0
PRODID:-//OmniMagnetCalendar//EN
BEGIN:VEVENT
DTSTAMP:20190625T195740Z
STATUS:CONFIRMED
UID:hcnevada.clubs.harvard.edu320
DTSTART:20220820T160000Z
DTEND:20220820T183000Z
LOCATION:Nevada Partnership for Homeless Youth, 4981 Shirley Street, Las Vegas, NV, 89119,
SUMMARY:Volunteer Event:  Nevada Partnership for Homeless Youth
DESCRIPTION:WE HAVE REACHED MAXIMUM RSVP'S!  Thank you for the support - we will have another event later this year.
BEGIN:VALARM
TRIGGER:-PT15M
ACTION:DISPLAY
END:VALARM
TRANSP:OPAQUE
END:VEVENT
END:VCALENDAR
