BEGIN:VCALENDAR
VERSION:2.0
PRODID:-//OmniMagnetCalendar//EN
BEGIN:VEVENT
DTSTAMP:20190625T195740Z
STATUS:CONFIRMED
UID:hcnevada.clubs.harvard.edu322
DTSTART:20221119T170000Z
DTEND:20221119T200000Z
LOCATION:Ritchie McNeely's, 2235 Village Walk Drive #147, Las Vegas, NV, 89052, USA,
SUMMARY:WATCH PARTY:  "The Game" Harvard vs. Yale Football
DESCRIPTION:Alumni, parents, and friends are welcome to come cheer on the teams for the 138th playing of THE GAME!  Ritchie McNeely's Restaurant - The District at Green Valley Ranch
BEGIN:VALARM
TRIGGER:-PT15M
ACTION:DISPLAY
END:VALARM
TRANSP:OPAQUE
END:VEVENT
END:VCALENDAR
