BEGIN:VCALENDAR
VERSION:2.0
PRODID:-//OmniMagnetCalendar//EN
BEGIN:VEVENT
DTSTAMP:20190625T195740Z
STATUS:CONFIRMED
UID:hcnevada.clubs.harvard.edu324
DTSTART:20221027T193000Z
DTEND:20221027T210000Z
LOCATION:Neighbors Cafe, 5910 S. Fort Apache Road, LAS VEGAS, NV, 89148, USA,
SUMMARY:Harvard Club Lunch: Thursday, October 27
DESCRIPTION:The Harvard Club of Nevada Club lunches are back! 
BEGIN:VALARM
TRIGGER:-PT15M
ACTION:DISPLAY
END:VALARM
TRANSP:OPAQUE
END:VEVENT
END:VCALENDAR
