BEGIN:VCALENDAR
VERSION:2.0
PRODID:-//OmniMagnetCalendar//EN
BEGIN:VEVENT
DTSTAMP:20190625T195740Z
STATUS:CONFIRMED
UID:hcnevada.clubs.harvard.edu328
DTSTART:20230126T203000Z
DTEND:20230126T220000Z
LOCATION:Medina Mediterranean Kitchen, 2895 N Green Valley Pkwy , STE A, Henderson, NV, 89014, USA,
SUMMARY:Harvard Club Lunch: Thursday, January 26
DESCRIPTION:The Harvard Club of Nevada Club lunches are back! Join us for our first Club Lunch of 2023.
BEGIN:VALARM
TRIGGER:-PT15M
ACTION:DISPLAY
END:VALARM
TRANSP:OPAQUE
END:VEVENT
END:VCALENDAR
