BEGIN:VCALENDAR
VERSION:2.0
PRODID:-//OmniMagnetCalendar//EN
BEGIN:VEVENT
DTSTAMP:20190625T195740Z
STATUS:CONFIRMED
UID:hcnevada.clubs.harvard.edu333
DTSTART:20230418T003000Z
DTEND:20230418T023000Z
LOCATION:Black Fire Innovation @ The Harry Reid Tech Park, 8400 W Sunset Rd, Suite 400, Las Vegas, NV, 89113,
SUMMARY:A Special Evening Event with Professor David Malan!
DESCRIPTION:A Taste of CS50 -- Harvard's Star Computer-Science Professor in Las Vegas for a Special Evening Event!  Join fellow Harvard Alumni and invited guests for this Speaker Series Event: Monday, April 17.
BEGIN:VALARM
TRIGGER:-PT15M
ACTION:DISPLAY
END:VALARM
TRANSP:OPAQUE
END:VEVENT
END:VCALENDAR
