BEGIN:VCALENDAR
VERSION:2.0
PRODID:-//OmniMagnetCalendar//EN
BEGIN:VEVENT
DTSTAMP:20190625T195740Z
STATUS:CONFIRMED
UID:hcnevada.clubs.harvard.edu337
DTSTART:20230713T193000Z
DTEND:20230713T210000Z
LOCATION:Sundry @ The UnCommons, 6840 Helen Toland St., Las Vegas, NV, 89113,
SUMMARY:Harvard Club Lunch: Thursday, July 13
DESCRIPTION:Join us for our summer Club Lunch at Sundry @ The UnCommons!  The Sundry features a curated collection of regional and international cuisine, including from James Beard Award-winning chefs making their Las Vegas debut.
BEGIN:VALARM
TRIGGER:-PT15M
ACTION:DISPLAY
END:VALARM
TRANSP:OPAQUE
END:VEVENT
END:VCALENDAR
