BEGIN:VCALENDAR
VERSION:2.0
PRODID:-//OmniMagnetCalendar//EN
BEGIN:VEVENT
DTSTAMP:20190625T195740Z
STATUS:CONFIRMED
UID:hcnevada.clubs.harvard.edu340
DTSTART:20230915T003000Z
DTEND:20230915T040000Z
LOCATION:The Smith Center , 361 Symphony Park Avenue, Las Vegas, NV, 89106,
SUMMARY:A night at the theater (Hosted by the Cornell Club of Nevada) **SOLD OUT**
DESCRIPTION:**THIS EVENT IS SOLD OUT** Join alumni from Harvard and Cornell for a night of theater: Les Miserables at the Smith Center!      Pre-show bite & drinks at 5:30p Show starts at 7:30p
BEGIN:VALARM
TRIGGER:-PT15M
ACTION:DISPLAY
END:VALARM
TRANSP:OPAQUE
END:VEVENT
END:VCALENDAR
