BEGIN:VCALENDAR
VERSION:2.0
PRODID:-//OmniMagnetCalendar//EN
BEGIN:VEVENT
DTSTAMP:20190625T195740Z
STATUS:CONFIRMED
UID:hcnevada.clubs.harvard.edu341
DTSTART:20231021T160000Z
DTEND:20231021T190000Z
LOCATION:City Impact Center, 950 E. Sahara Ave, Las Vegas, NV, 89104,
SUMMARY:Fall Volunteer Event @ City Impact Center: Saturday, October 21
DESCRIPTION:Join the Harvard Club of Nevada for our Volunteer Day at the City Impact Center Las Vegas.  This will be a fun and meaningful opportunity to make a lasting impact at the City Impact Center's urban garden.  Friends & family are welcome to join. 
BEGIN:VALARM
TRIGGER:-PT15M
ACTION:DISPLAY
END:VALARM
TRANSP:OPAQUE
END:VEVENT
END:VCALENDAR
