BEGIN:VCALENDAR
VERSION:2.0
PRODID:-//OmniMagnetCalendar//EN
BEGIN:VEVENT
DTSTAMP:20190625T195740Z
STATUS:CONFIRMED
UID:hcnevada.clubs.harvard.edu342
DTSTART:20231118T170000Z
DTEND:20231118T200000Z
LOCATION:The Sterling Club @ Turnberry Place, 2827 Paradise Rd, Las Vegas, NV, 89109, USA,
SUMMARY:WATCH PARTY:  "The Game" Harvard vs. Yale Football  **SOLD OUT**
DESCRIPTION:*** SOLD OUT ***
BEGIN:VALARM
TRIGGER:-PT15M
ACTION:DISPLAY
END:VALARM
TRANSP:OPAQUE
END:VEVENT
END:VCALENDAR
