BEGIN:VCALENDAR
VERSION:2.0
PRODID:-//OmniMagnetCalendar//EN
BEGIN:VEVENT
DTSTAMP:20190625T195740Z
STATUS:CONFIRMED
UID:hcnevada.clubs.harvard.edu346
DTSTART:20230928T010000Z
DTEND:20230928T030000Z
LOCATION:Sundry Food Hall (Center Bar), 6840 Helen Toland Street, Las Vegas, NV, 89113,
SUMMARY:Welcome to your City
DESCRIPTION:An annual event hosted each fall, Welcome to Your City is a fun, informal way for recent graduates to connect with alumni in their area.
BEGIN:VALARM
TRIGGER:-PT15M
ACTION:DISPLAY
END:VALARM
TRANSP:OPAQUE
END:VEVENT
END:VCALENDAR
