BEGIN:VCALENDAR
VERSION:2.0
PRODID:-//OmniMagnetCalendar//EN
BEGIN:VEVENT
DTSTAMP:20190625T195740Z
STATUS:CONFIRMED
UID:hcnevada.clubs.harvard.edu370
DTSTART:20240718T193000Z
DTEND:20240718T210000Z
LOCATION:Fine Company (at Downtown Summerlin), 10970 Rosemary Park Drive, Las Vegas, NV, 89135,
SUMMARY:Harvard Club Lunch: Thursday, July 18
DESCRIPTION:Join us for our next Club Lunch at Fine Company at Downtown Summerlin!
BEGIN:VALARM
TRIGGER:-PT15M
ACTION:DISPLAY
END:VALARM
TRANSP:OPAQUE
END:VEVENT
END:VCALENDAR
