BEGIN:VCALENDAR
VERSION:2.0
PRODID:-//OmniMagnetCalendar//EN
BEGIN:VEVENT
DTSTAMP:20190625T195740Z
STATUS:CONFIRMED
UID:hcnevada.clubs.harvard.edu371
DTSTART:20240911T233000Z
DTEND:20240912T010000Z
LOCATION:The George @ Durango Casino, 6915 S. Durango Dr., Las Vegas, NV, 89148,
SUMMARY:Welcome to Your City
DESCRIPTION:Welcome to Your City is an annual Harvard Alumni Association program that provides University-wide graduates of the last decade the opportunity to connect with their local Harvard alumni community.
BEGIN:VALARM
TRIGGER:-PT15M
ACTION:DISPLAY
END:VALARM
TRANSP:OPAQUE
END:VEVENT
END:VCALENDAR
