BEGIN:VCALENDAR
VERSION:2.0
PRODID:-//OmniMagnetCalendar//EN
BEGIN:VEVENT
DTSTAMP:20190625T195740Z
STATUS:CONFIRMED
UID:hcnevada.clubs.harvard.edu376
DTSTART:20241109T020000Z
DTEND:20241109T040000Z
LOCATION:Exact address to be sent to registered attendees. , Las Vegas, NV,
SUMMARY:HBS Women's Mixer - Las Vegas
DESCRIPTION:Are you an HBS Alumnae in Las Vegas or traveling to the area this November? Don't miss this opportunity to connect and network with fellow HBS graduates. RSVP now to join us.
BEGIN:VALARM
TRIGGER:-PT15M
ACTION:DISPLAY
END:VALARM
TRANSP:OPAQUE
END:VEVENT
END:VCALENDAR
