BEGIN:VCALENDAR
VERSION:2.0
PRODID:-//OmniMagnetCalendar//EN
BEGIN:VEVENT
DTSTAMP:20190625T195740Z
STATUS:CONFIRMED
UID:hcnevada.clubs.harvard.edu377
DTSTART:20241207T013000Z
DTEND:20241207T033000Z
LOCATION:Circa Casino - Legacy Lounge, 8 Fremont St, 60th Floor, Las Vegas, NV, 89101,
SUMMARY:Harvard Varsity Club on the Road
DESCRIPTION:Join fellow local Las Vegas alumni and the Harvard Varsity Club for a special evening social while supporting Harvard Wrestling as they compete in the Cliff Keen Collegiate Wrestling Invitational!
BEGIN:VALARM
TRIGGER:-PT15M
ACTION:DISPLAY
END:VALARM
TRANSP:OPAQUE
END:VEVENT
END:VCALENDAR
