BEGIN:VCALENDAR
VERSION:2.0
PRODID:-//OmniMagnetCalendar//EN
BEGIN:VEVENT
DTSTAMP:20190625T195740Z
STATUS:CONFIRMED
UID:hcnevada.clubs.harvard.edu383
DTSTART:20250228T203000Z
DTEND:20250228T220000Z
LOCATION: Lazeez Pakistani Indian Mediterranean Grill, 8560 W. Desert Inn, Las Vegas, NV, 89117,
SUMMARY:Harvard Club Lunch: Friday, February 28
DESCRIPTION:Join us for our next Club Lunch at Lazeez Pakistani Indian Mediterranean Grill. Contemporary cafe featuring halal Indian & Mediterranean fare with vegan options. FRESH | TASTY | HEALTHY | HALAL
BEGIN:VALARM
TRIGGER:-PT15M
ACTION:DISPLAY
END:VALARM
TRANSP:OPAQUE
END:VEVENT
END:VCALENDAR
