BEGIN:VCALENDAR
VERSION:2.0
PRODID:-//OmniMagnetCalendar//EN
BEGIN:VEVENT
DTSTAMP:20190625T195740Z
STATUS:CONFIRMED
UID:hcnevada.clubs.harvard.edu390
DTSTART:20250408T003000Z
DTEND:20250408T023000Z
LOCATION:UNLV, 4505 S Maryland Pkwy, Las Vegas, NV, 89154,
SUMMARY:**A Special Speakers Series Event: Professor David Malan!**
DESCRIPTION:Teacher of Computer Science 50 (CS50), which is among Harvard's largest courses and edX’s largest MOOC, with more than 6.4M registrants. Event being held on UNLV Campus at the new Howard R. Hughes College of Engineering Advanced Engineering Building.
BEGIN:VALARM
TRIGGER:-PT15M
ACTION:DISPLAY
END:VALARM
TRANSP:OPAQUE
END:VEVENT
END:VCALENDAR
