BEGIN:VCALENDAR
VERSION:2.0
PRODID:-//OmniMagnetCalendar//EN
BEGIN:VEVENT
DTSTAMP:20190625T195740Z
STATUS:CONFIRMED
UID:hcnevada.clubs.harvard.edu392
DTSTART:20250606T193000Z
DTEND:20250606T210000Z
LOCATION:Xiao Long Dumplings, 4275 Spring Mountain Road, Las Vegas, NV, 89102,
SUMMARY:Harvard Club Lunch: Friday, June 6
DESCRIPTION:Join us for our next Club Lunch at Xiao Long Dumplings! These casual afternoon events are designed as a fun and informal way to meet, network, and connect with the local Harvard alumni community.
BEGIN:VALARM
TRIGGER:-PT15M
ACTION:DISPLAY
END:VALARM
TRANSP:OPAQUE
END:VEVENT
END:VCALENDAR
