BEGIN:VCALENDAR
VERSION:2.0
PRODID:-//OmniMagnetCalendar//EN
BEGIN:VEVENT
DTSTAMP:20190625T195740Z
STATUS:CONFIRMED
UID:hcnevada.clubs.harvard.edu393
DTSTART:20250706T210000Z
DTEND:20250707T010000Z
LOCATION:Paris Hotel & Casino, Las Vegas,
SUMMARY:Yale Series of Poker 2025
DESCRIPTION:This is a fun, casual event for all levels of players, whether seasoned or a beginner. 21+ only please. School gear highly recommended!  Award Ceremony & Dinner included with $100 registration.
BEGIN:VALARM
TRIGGER:-PT15M
ACTION:DISPLAY
END:VALARM
TRANSP:OPAQUE
END:VEVENT
END:VCALENDAR
