BEGIN:VCALENDAR
VERSION:2.0
PRODID:-//OmniMagnetCalendar//EN
BEGIN:VEVENT
DTSTAMP:20190625T195740Z
STATUS:CONFIRMED
UID:hcnevada.clubs.harvard.edu415
DTSTART:20260127T000000Z
DTEND:20260127T013000Z
LOCATION:Sanders Theatre Memorial Hall, 48 Quincy Street, Cambridge, MA, 02138,
SUMMARY:Watch Party! Embracing AI at Harvard and Beyond with David J. Malan
DESCRIPTION:Join fellow local alumni for a special livestream presentation by David Malan, one of Harvard’s most engaging and influential professors, as he shares insights on artificial intelligence (AI) drawn from his teaching and research.
BEGIN:VALARM
TRIGGER:-PT15M
ACTION:DISPLAY
END:VALARM
TRANSP:OPAQUE
END:VEVENT
END:VCALENDAR
