BEGIN:VCALENDAR
VERSION:2.0
PRODID:-//OmniMagnetCalendar//EN
BEGIN:VEVENT
DTSTAMP:20190625T195740Z
STATUS:CONFIRMED
UID:hcnevada.clubs.harvard.edu421
DTSTART:20260527T193000Z
DTEND:20260527T210000Z
LOCATION:Tarantino's Plant Based Italian, 7960 S Rainbow Blvd, Las Vegas, NV, 89139, United States,
SUMMARY:Harvard Club Lunch: Wednesday, May 27
DESCRIPTION:Join us for our next Club Lunch at Tarantino's Plant Based Italian!  These casual afternoon gatherings offer a fun, informal way to meet, network, and connect with the local Harvard alumni community while supporting locally owned restaurants.
BEGIN:VALARM
TRIGGER:-PT15M
ACTION:DISPLAY
END:VALARM
TRANSP:OPAQUE
END:VEVENT
END:VCALENDAR
