BEGIN:VCALENDAR
VERSION:2.0
PRODID:-//OmniMagnetCalendar//EN
BEGIN:VEVENT
DTSTAMP:20190625T195740Z
STATUS:CONFIRMED
UID:hcnevada.clubs.harvard.edu422
DTSTART:20260509T153000Z
DTEND:20260509T173000Z
LOCATION:Toni's House, 1410 N. Tonopah Dr, Las Vegas, NV, 89106,
SUMMARY:Spring Club Volunteer Event: Toni's House - Holistic Revocery For Those In Need
DESCRIPTION:Join local alumni for a day of service in our Las Vegas community.  Enjoy the spring weather as we help sort donations, work to beautify the backyard, and plant flowers.
BEGIN:VALARM
TRIGGER:-PT15M
ACTION:DISPLAY
END:VALARM
TRANSP:OPAQUE
END:VEVENT
END:VCALENDAR
